BEGIN:VCALENDAR
VERSION:2.0
BEGIN:VEVENT
UID:5E97B8E2-9C2B-4702-B2D4-88E599F99844
DTSTART:20221104T173000Z
DTEND:20221104T230000Z
SUMMARY:The Light Park- Spring
DESCRIPTION:The Most EXCITING and ELECTRIFYING Light Show South of the Nort
 h Pole\, The Light Park is a mile-long\, drive-thru spectacular that has b
 een heralded as “one of the coolest ways to brighten your holiday season”.
  At The Light Park\, guests will witness millions of lights synchronized t
 o an electric mix of music powered by DJ Polar Ice from the North Pole’s #
 1 Hit Radio station\, K-GLO as they take in the brightest sights and sound
 s in the South. Priced per vehicle\, rather than per person\, the more is
  truly merrier for visitors who want to travel through the longest light t
 unnel in the world\, rock out to the coolest tunes\, and celebrate the hol
 iday season with the most Instagram Reel-worthy shots! Tickets must be pur
 chased online in advance for this electrifying experience for all! For mor
 e information\, visit www.thelightpark.com \nRuns November 4\, 2022\, thro
 ugh January 1\, 2023\, shows start at 5:30 p.m. to 10:00 p.m. (weekdays)\,
  and 5:30 p.m. to 11:00 p.m. (weekends and holiday weeks)\nHurricane Harbo
 r Parking Lot\n21300 Interstate 45 N\nSpring\, TX 77373 United States\n
LOCATION:21300 Interstate 45 N\, Spring\, TX 77373
URL:http://houston.bubblelife.com/community/houston_calendar/library/352395
 60/key/3511678920/The_Light_Park-_Spring
CREATED:20221028T145951Z
LAST-MODIFIED:20221028T145951Z
DTSTAMP:20260424T112823Z
RRULE:FREQ=DAILY;UNTIL=20230101T000000Z;WKST=FR
CLASS:PUBLIC
STATUS:CONFIRMED
TRANSP:TRANSPARENT
SEQUENCE:1
END:VEVENT
END:VCALENDAR
